BEGIN:VCALENDAR
VERSION:2.0
PRODID:icalendar-ruby
CALSCALE:GREGORIAN
METHOD:PUBLISH
BEGIN:VEVENT
DTSTAMP:20260424T032025Z
UID:15-313150@lebanoncbc.org
DTSTART:20261101T183000Z
DTEND:20261101T200000Z
CLASS:PUBLIC
CREATED:20260423T195258
DESCRIPTION:
LAST-MODIFIED:20260423T195258
LOCATION:
SUMMARY:Sunday Worship
URL;VALUE=URI:https://lebanoncbc.org/events/sunday-worship--15/2026-11-01
ATTACH;FILENAME=ACIk.jpg;FMTTYPE=image/jpeg:https://dq5pwpg1q8ru0.cloudfron
 t.net/2024/09/11/16/33/54/6fde7a5e-2e16-4f12-8093-31fc23a9de66/ACIk.jpg
END:VEVENT
END:VCALENDAR
