BEGIN:VCALENDAR
VERSION:2.0
PRODID:icalendar-ruby
CALSCALE:GREGORIAN
METHOD:PUBLISH
BEGIN:VEVENT
DTSTAMP:20260423T211309Z
UID:15-312747@lebanoncbc.org
DTSTART:20260927T173000Z
DTEND:20260927T190000Z
CLASS:PUBLIC
CREATED:20260423T140515
DESCRIPTION:
LAST-MODIFIED:20260423T140515
LOCATION:
SUMMARY:Sunday Worship
URL;VALUE=URI:https://lebanoncbc.org/events/sunday-worship--15/2026-09-27
ATTACH;FILENAME=ACIk.jpg;FMTTYPE=image/jpeg:https://dq5pwpg1q8ru0.cloudfron
 t.net/2024/09/11/16/33/54/6fde7a5e-2e16-4f12-8093-31fc23a9de66/ACIk.jpg
END:VEVENT
END:VCALENDAR
