BEGIN:VCALENDAR
VERSION:2.0
PRODID:icalendar-ruby
CALSCALE:GREGORIAN
METHOD:PUBLISH
BEGIN:VEVENT
DTSTAMP:20260423T085604Z
UID:11-311840@lebanoncbc.org
DTSTART:20261001T013000Z
DTEND:20261001T030000Z
CLASS:PUBLIC
CREATED:20260422T195049
DESCRIPTION:
LAST-MODIFIED:20260422T195049
LOCATION:Community Bible Church
SUMMARY:AWANA
URL;VALUE=URI:https://lebanoncbc.org/events/awana/2026-09-30
ATTACH;FILENAME=children-01.jpg;FMTTYPE=image/jpeg:https://dq5pwpg1q8ru0.cl
 oudfront.net/2024/08/28/22/05/06/dc3d9d55-e69f-4a13-b557-bc914967a50a/chil
 dren-01.jpg
END:VEVENT
END:VCALENDAR
